BEGIN:VCALENDAR
VERSION:2.0
PRODID:-//Spiegel Vrouw - ECPv6.15.20//NONSGML v1.0//EN
CALSCALE:GREGORIAN
METHOD:PUBLISH
X-WR-CALNAME:Spiegel Vrouw
X-ORIGINAL-URL:https://spiegelvrouw.nl
X-WR-CALDESC:Evenementen voor Spiegel Vrouw
REFRESH-INTERVAL;VALUE=DURATION:PT1H
X-Robots-Tag:noindex
X-PUBLISHED-TTL:PT1H
BEGIN:VTIMEZONE
TZID:UTC
BEGIN:STANDARD
TZOFFSETFROM:+0000
TZOFFSETTO:+0000
TZNAME:UTC
DTSTART:20250101T000000
END:STANDARD
END:VTIMEZONE
BEGIN:VEVENT
DTSTART;TZID=UTC:20260522T110000
DTEND;TZID=UTC:20260522T160000
DTSTAMP:20260420T101753
CREATED:20260413T092025Z
LAST-MODIFIED:20260413T104155Z
UID:2018-1779447600-1779465600@spiegelvrouw.nl
SUMMARY:Zelf Baarmoeder Massage
DESCRIPTION:Leer je eigen lichaam kennen\, van binnenuit. \nKennis die je altijd bij je draagt. Na deze dag heb je een liefdevolle\, praktische techniek in handen die je kunt toepassen wanneer jij het nodig hebt: thuis\, op je eigen moment\, op jouw manier. \n\nWe beginnen rustig met thee en iets lekkers: zodat er ruimte is om aan te komen\, elkaar te ontmoeten en goed te beginnen. \nJacqueline neemt je mee in de achtergrond en traditie van de baarmoedermassage\, en leert je stap voor stap de techniek van de zelfbaarmoedermassage. Alles op een toegankelijke\, belichaamde manier\, zodat je het daadwerkelijk voelt\, begrijpt en kunt onthouden. \nJe gaat naar huis met lesmateriaal zodat je de techniek thuis kunt blijven toepassen. \nDe dag sluit af met ruimte voor vragen\, uitwisseling en nazorg. \nInbegrepen: \n\nUitgebreide begeleiding door Jacqueline\nLesmateriaal om mee naar huis te nemen\nThee en lekkers\nEen intieme groep van maximaal 8 vrouwen\n\n\nVoor de vrouw met of zonder baarmoeder. Voor de vrouw vanaf haar menarche tot diep in haar wijze jaren. \nVoor jou\, wanneer je verlangt naar meer verbinding met je baarmoeder en bekkengebied. Wanneer je je cyclus bewuster wilt ervaren. Wanneer je klachten ervaart rondom menstruatie\, postpartum\, perimenopauze of daarna. \nOf simpelweg… omdat je voelt dat het ertoe doet. \nKom alleen of neem je zus\, moeder of vriendin mee.
URL:https://spiegelvrouw.nl/event/zelfbaarmoedermassage/
LOCATION:Spiegelvrouw\, Dorpsstraat 85\, Krabbendijke\, 4413CD\, Netherlands
CATEGORIES:zelfbaarmoedermassage
ATTACH;FMTTYPE=image/jpeg:https://spiegelvrouw.nl/wp-content/uploads/2026/04/tooth-and-toad-JVgCJcfQvdE-unsplash-scaled.jpg
ORGANIZER;CN="Jaqcueline Buijze":MAILTO:contact@spiegelvrouw.nl
END:VEVENT
BEGIN:VEVENT
DTSTART;TZID=UTC:20260603T080000
DTEND;TZID=UTC:20260603T170000
DTSTAMP:20260420T101753
CREATED:20260413T081257Z
LAST-MODIFIED:20260413T094550Z
UID:1979-1780473600-1780506000@spiegelvrouw.nl
SUMMARY:Yoni Stoom Zeeland
DESCRIPTION:Een heerlijke middag of avond van warmte\, zorg en verbinding. \nJe bent welkom om even helemaal te landen. Geen agenda\, geen haast; alleen jij\, de warmte van de kruiden en een groepje vrouwen die begrijpt wat het betekent om jezelf deze zorg te gunnen. \n\nWe beginnen rustig\, met een kop thee en iets lekkers: ruimte om aan te komen en elkaar te ontmoeten. \nDaarna begeleid ik je door de practice van het yoni stomen. Je krijgt uitleg over de kruiden die speciaal zijn uitgekozen\, en er is volop ruimte voor vragen. Vervolgens stoom je op je eigen tempo\, in een warme en veilige setting met andere vrouwen. \nDe avond sluit af in stilte of zachte verbinding. \nInbegrepen: \n\nAfgestemde stoomkruiden\nThee en lekkers\nBegeleiding door Jacqueline\nEen kleine groep (max. 8 vrouwen) voor persoonlijke aandacht en rust\n\n\nVoor elke vrouw die zichzelf dit moment van zorg wil geven. Of je nu al bekend bent met yoni stomen of er voor het eerst mee kennismaakt — je bent van harte welkom. Kom alleen\, of neem je zus\, moeder of vriendin mee. \n\nAanmelden kan via contact@spiegelvrouw.nl.
URL:https://spiegelvrouw.nl/event/yoni-stoom/
LOCATION:Spiegelvrouw\, Dorpsstraat 85\, Krabbendijke\, 4413CD\, Netherlands
CATEGORIES:yoni stoom
ATTACH;FMTTYPE=image/jpeg:https://spiegelvrouw.nl/wp-content/uploads/2026/04/patrick-shaun-QF15LXD6Yko-unsplash-scaled.jpg
ORGANIZER;CN="Jaqcueline Buijze":MAILTO:contact@spiegelvrouw.nl
END:VEVENT
BEGIN:VEVENT
DTSTART;VALUE=DATE:20260618
DTEND;VALUE=DATE:20260619
DTSTAMP:20260420T101753
CREATED:20260317T121644Z
LAST-MODIFIED:20260408T080207Z
UID:1820-1781740800-1781827199@spiegelvrouw.nl
SUMMARY:Rode Tent
DESCRIPTION:Dit is een rode tent
URL:https://spiegelvrouw.nl/event/rode-tent/
LOCATION:Spiegelvrouw\, Dorpsstraat 85\, Krabbendijke\, 4413CD\, Netherlands
ATTACH;FMTTYPE=image/jpeg:https://spiegelvrouw.nl/wp-content/uploads/2026/03/s-l-fyN_DZ4WAGk-unsplash-scaled.jpg
ORGANIZER;CN="Jaqcueline Buijze":MAILTO:contact@spiegelvrouw.nl
END:VEVENT
END:VCALENDAR